BEGIN:VCALENDAR
PRODID:brasil.gov.agenda
VERSION:1.0
BEGIN:VEVENT
DTSTART:20210420T160000Z
DTEND:20210420T170000Z
DCREATED:20210420T114555Z
UID:Compromisso-3ebab0bfe9034c318697e661ca136851
SEQUENCE:0
LAST-MODIFIED:20210420T114555Z
SUMMARY:Reunião com o Município de Diamantina/MG
DESCRIPTION:Ambulatórios da Famed - campus I
LOCATION:Reitoria
PRIORITY:3
TRANSP:0
END:VEVENT
END:VCALENDAR
