BEGIN:VCALENDAR
PRODID:brasil.gov.agenda
VERSION:1.0
BEGIN:VEVENT
DTSTART:20210420T150000Z
DTEND:20210420T160000Z
DCREATED:20210420T114028Z
UID:Compromisso-4db3ff1ae0334f68830ea7f81030b098
SEQUENCE:0
LAST-MODIFIED:20210420T114028Z
SUMMARY:Reunião com o Município de Curvelo/MG
DESCRIPTION:Fazenda Experimental do Moura: apresentação de projetos
LOCATION:Compromisso on-line
PRIORITY:3
TRANSP:0
END:VEVENT
END:VCALENDAR
