BEGIN:VCALENDAR
PRODID:brasil.gov.agenda
VERSION:1.0
BEGIN:VEVENT
DTSTART:20210420T090000Z
DTEND:20210420T100000Z
DCREATED:20210420T113724Z
UID:Compromisso-c46618f0b35f42ceb20f9e51767ab56f
SEQUENCE:0
LAST-MODIFIED:20210420T113801Z
SUMMARY:Reunião com a Pró-Reitoria de Planejamento e Orçamento
DESCRIPTION:Alinhamento interno
LOCATION:Reitoria
PRIORITY:3
TRANSP:0
END:VEVENT
END:VCALENDAR
