BEGIN:VCALENDAR
PRODID:brasil.gov.agenda
VERSION:1.0
BEGIN:VEVENT
DTSTART:20210420T100000Z
DTEND:20210420T120000Z
DCREATED:20210420T113847Z
UID:Compromisso-5cc262ed70764e158ff270f00b252ccb
SEQUENCE:0
LAST-MODIFIED:20210420T113848Z
SUMMARY:Despacho Interno
LOCATION:Reitoria
PRIORITY:3
TRANSP:0
END:VEVENT
END:VCALENDAR
