BEGIN:VCALENDAR
PRODID:brasil.gov.agenda
VERSION:1.0
BEGIN:VEVENT
DTSTART:20210420T140000Z
DTEND:20210420T150000Z
DCREATED:20210420T113906Z
UID:Compromisso-238ee14c391744f7bba97c2efe2af171
SEQUENCE:0
LAST-MODIFIED:20210420T113906Z
SUMMARY:Despacho Interno
LOCATION:Reitoria
PRIORITY:3
TRANSP:0
END:VEVENT
END:VCALENDAR
