BEGIN:VCALENDAR
PRODID:brasil.gov.agenda
VERSION:1.0
BEGIN:VEVENT
DTSTART:20210420T083000Z
DTEND:20210420T090000Z
DCREATED:20210420T112136Z
UID:Compromisso-0b6537c739b14d499dd71a7a6875282b
SEQUENCE:0
LAST-MODIFIED:20210420T112136Z
SUMMARY:Colação de grau antecipada
LOCATION:Compromisso on-line
PRIORITY:3
TRANSP:0
END:VEVENT
END:VCALENDAR
