BEGIN:VCALENDAR
PRODID:brasil.gov.agenda
VERSION:1.0
BEGIN:VEVENT
DTSTART:20210419T140000Z
DTEND:20210419T180000Z
DCREATED:20210420T111428Z
UID:Compromisso-3cf9719244714fa7a857024f68a52b52
SEQUENCE:0
LAST-MODIFIED:20210420T111428Z
SUMMARY:Despacho Interno
LOCATION:Reitoria
PRIORITY:3
TRANSP:0
END:VEVENT
END:VCALENDAR
