BEGIN:VCALENDAR
PRODID:brasil.gov.agenda
VERSION:1.0
BEGIN:VEVENT
DTSTART:20210415T150000Z
DTEND:20210415T000000Z
DCREATED:20210415T163346Z
UID:Compromisso-0c6c207211db45769ee710a59f485d2d
SEQUENCE:0
LAST-MODIFIED:20210415T164051Z
SUMMARY:Audiência no Ministério da Educação (MEC)
LOCATION:Brasília - DF - Esplanada dos Ministérios
PRIORITY:3
TRANSP:0
END:VEVENT
END:VCALENDAR
