BEGIN:VCALENDAR
PRODID:brasil.gov.agenda
VERSION:1.0
BEGIN:VEVENT
DTSTART:20210414T090000Z
DTEND:20210414T000000Z
DCREATED:20210414T162101Z
UID:Compromisso-a079ac540dd64884be709a8b53171e60
SEQUENCE:0
LAST-MODIFIED:20210414T162101Z
SUMMARY:Viagem a Brasília (DF)
LOCATION:Em trânsito
PRIORITY:3
TRANSP:0
END:VEVENT
END:VCALENDAR
