BEGIN:VCALENDAR
PRODID:brasil.gov.agenda
VERSION:1.0
BEGIN:VEVENT
DTSTART:20210412T080000Z
DTEND:20210412T100000Z
DCREATED:20210412T120135Z
UID:Compromisso-8b3c44b63c234228bf62f5cca7d49bb8
SEQUENCE:0
LAST-MODIFIED:20210412T120136Z
SUMMARY:Reunião do Comitê de Governança\, Integridade\, Riscos e Controles (CGIRC)
LOCATION:Reitoria
PRIORITY:3
TRANSP:0
END:VEVENT
END:VCALENDAR
