BEGIN:VCALENDAR
PRODID:brasil.gov.agenda
VERSION:1.0
BEGIN:VEVENT
DTSTART:20210409T080000Z
DTEND:20210408T082500Z
DCREATED:20210409T112558Z
UID:Compromisso-213fc33794a742d2a54f5f06258f34e1
SEQUENCE:0
LAST-MODIFIED:20210409T112558Z
SUMMARY:Colação de grau posterior
LOCATION:Compromisso online
PRIORITY:3
TRANSP:0
END:VEVENT
END:VCALENDAR
