BEGIN:VCALENDAR
PRODID:brasil.gov.agenda
VERSION:1.0
BEGIN:VEVENT
DTSTART:20210409T083000Z
DTEND:20210409T110000Z
DCREATED:20210409T112721Z
UID:Compromisso-bf32ccc0aaee4c7fbed733ea5fc253b9
SEQUENCE:0
LAST-MODIFIED:20210409T112721Z
SUMMARY:235ª reunião\, sendo a 93ª sessão em caráter extraordinário do CONSU
LOCATION:Compromisso online
PRIORITY:3
TRANSP:0
END:VEVENT
END:VCALENDAR
