BEGIN:VCALENDAR
PRODID:brasil.gov.agenda
VERSION:1.0
BEGIN:VEVENT
DTSTART:20210408T110000Z
DTEND:20210408T120000Z
DCREATED:20210409T112138Z
UID:Compromisso-8299f9261fa247108fb02c7c78d86847
SEQUENCE:0
LAST-MODIFIED:20210409T112138Z
SUMMARY:Sessão de fotos com a Diretoria de Comunicação Social (DICOM)
LOCATION:Reitoria
PRIORITY:3
TRANSP:0
END:VEVENT
END:VCALENDAR
