BEGIN:VCALENDAR
PRODID:brasil.gov.agenda
VERSION:1.0
BEGIN:VEVENT
DTSTART:20210408T140000Z
DTEND:20210408T150000Z
DCREATED:20210409T112359Z
UID:Compromisso-c12a85531db042b3bb0031f3dba7bae1
SEQUENCE:0
LAST-MODIFIED:20210409T113339Z
SUMMARY:Reunião com o presidente da Câmara Municipal de Diamantina
DESCRIPTION:Passe livre estudantil e demais políticas públicas
LOCATION:Praça JK\, nº27 - Centro\, Diamantina
PRIORITY:3
TRANSP:0
END:VEVENT
END:VCALENDAR
