BEGIN:VCALENDAR
PRODID:brasil.gov.agenda
VERSION:1.0
BEGIN:VEVENT
DTSTART:20210408T150000Z
DTEND:20210408T160000Z
DCREATED:20210409T113510Z
UID:Compromisso-d411af84c3084f708c511fdc48979cd8
SEQUENCE:0
LAST-MODIFIED:20210409T113510Z
SUMMARY:Reunião com o Departamento do Curso de Odontologia
DESCRIPTION:Obras do campus I
LOCATION:Reitoria
PRIORITY:3
TRANSP:0
END:VEVENT
END:VCALENDAR
