BEGIN:VCALENDAR
PRODID:brasil.gov.agenda
VERSION:1.0
BEGIN:VEVENT
DTSTART:20210408T160000Z
DTEND:20210408T170000Z
DCREATED:20210409T113633Z
UID:Compromisso-a5346ed732d04494b819bbaf289cdd1f
SEQUENCE:0
LAST-MODIFIED:20210409T113633Z
SUMMARY:Reunião com o Departamento de Computação e Coordenação do curso de Sistemas da Informação
DESCRIPTION:Participação do curso de Sistemas de Informação no des
 envolvimento dos Sistemas da Universidade.
LOCATION:Reitoria
PRIORITY:3
TRANSP:0
END:VEVENT
END:VCALENDAR
