BEGIN:VCALENDAR
PRODID:brasil.gov.agenda
VERSION:1.0
BEGIN:VEVENT
DTSTART:20210408T080000Z
DTEND:20210408T100000Z
DCREATED:20210409T111905Z
UID:Compromisso-0ea1e15504164c0e8a72b858c2b64766
SEQUENCE:0
LAST-MODIFIED:20210409T111905Z
SUMMARY:Despachos Internos
LOCATION:Reitoria
PRIORITY:3
TRANSP:0
END:VEVENT
END:VCALENDAR
