BEGIN:VCALENDAR
PRODID:brasil.gov.agenda
VERSION:1.0
BEGIN:VEVENT
DTSTART:20210406T100000Z
DTEND:20210406T120000Z
DCREATED:20210406T140244Z
UID:Compromisso-07b491d24d104c848143502b64eb18f7
SEQUENCE:0
LAST-MODIFIED:20210406T140244Z
SUMMARY:Reunião do Comitê de Governança\, Integridade\, Riscos e Controles (CGIRC)
LOCATION:Reitoria
PRIORITY:3
TRANSP:0
END:VEVENT
END:VCALENDAR
