BEGIN:VCALENDAR
PRODID:brasil.gov.agenda
VERSION:1.0
BEGIN:VEVENT
DTSTART:20210406T140000Z
DTEND:20210406T180000Z
DCREATED:20210407T113050Z
UID:Compromisso-78f0628d80874688ab68466d502ef5ca
SEQUENCE:0
LAST-MODIFIED:20210407T113115Z
SUMMARY:Despachos Internos
LOCATION:Reitoria
PRIORITY:3
TRANSP:0
END:VEVENT
END:VCALENDAR
