BEGIN:VCALENDAR
PRODID:brasil.gov.agenda
VERSION:1.0
BEGIN:VEVENT
DTSTART:20210405T110000Z
DTEND:20210405T120000Z
DCREATED:20210406T135925Z
UID:Compromisso-ffd8dc9775304cee98248ea3874261f3
SEQUENCE:0
LAST-MODIFIED:20210406T135925Z
SUMMARY:Reunião com a Pró-Reitoria de Planejamento e Orçamento (PROPLAN)
DESCRIPTION:Alinhamento interno
LOCATION:Reitoria
PRIORITY:3
TRANSP:0
END:VEVENT
END:VCALENDAR
