BEGIN:VCALENDAR
PRODID:brasil.gov.agenda
VERSION:1.0
BEGIN:VEVENT
DTSTART:20210405T140000Z
DTEND:20210405T180000Z
DCREATED:20210406T135829Z
UID:Compromisso-d3d28acd5f5f4d34a2e105a042b5ea9f
SEQUENCE:0
LAST-MODIFIED:20210406T135829Z
SUMMARY:15ª Reunião do Conselho de Integração Comunitária (CONSIC)
LOCATION:Compromisso online
PRIORITY:3
TRANSP:0
END:VEVENT
END:VCALENDAR
