BEGIN:VCALENDAR
PRODID:brasil.gov.agenda
VERSION:1.0
BEGIN:VEVENT
DTSTART:20210329T080000Z
DTEND:20210329T100000Z
DCREATED:20210329T112658Z
UID:Compromisso-3bc38495aa0e437bb041108ec8a9d881
SEQUENCE:0
LAST-MODIFIED:20210329T112658Z
SUMMARY:Reunião do Comitê de Governança\, Integridade\, Riscos e Controles (CGIRC)
LOCATION:Reitoria
PRIORITY:3
TRANSP:0
END:VEVENT
END:VCALENDAR
