BEGIN:VCALENDAR
PRODID:brasil.gov.agenda
VERSION:1.0
BEGIN:VEVENT
DTSTART:20210329T110000Z
DTEND:20210329T120000Z
DCREATED:20210329T112721Z
UID:Compromisso-bfd4c4b5b3df4e6c9c6d1e3a8ef6ad66
SEQUENCE:0
LAST-MODIFIED:20210329T112721Z
SUMMARY:Despachos Internos
LOCATION:Reitoria
PRIORITY:3
TRANSP:0
END:VEVENT
END:VCALENDAR
