BEGIN:VCALENDAR
PRODID:brasil.gov.agenda
VERSION:1.0
BEGIN:VEVENT
DTSTART:20210329T140000Z
DTEND:20210329T180000Z
DCREATED:20210329T112736Z
UID:Compromisso-59dad0b7216e48558348edf60220c546
SEQUENCE:0
LAST-MODIFIED:20210329T112736Z
SUMMARY:Despachos Internos
LOCATION:Reitoria
PRIORITY:3
TRANSP:0
END:VEVENT
END:VCALENDAR
