BEGIN:VCALENDAR
PRODID:brasil.gov.agenda
VERSION:1.0
BEGIN:VEVENT
DTSTART:20210326T140000Z
DTEND:20210326T180000Z
DCREATED:20210326T113414Z
UID:Compromisso-901a1c9e674d4460aaa6c892168a3d4c
SEQUENCE:0
LAST-MODIFIED:20210326T113414Z
SUMMARY:Despachos Internos
LOCATION:Reitoria
PRIORITY:3
TRANSP:0
END:VEVENT
END:VCALENDAR
