BEGIN:VCALENDAR
PRODID:brasil.gov.agenda
VERSION:1.0
BEGIN:VEVENT
DTSTART:20210326T080000Z
DTEND:20210326T120000Z
DCREATED:20210326T125241Z
UID:Compromisso-66d148132a3e4bceb0952c8b3e3226d2
SEQUENCE:0
LAST-MODIFIED:20210326T125241Z
SUMMARY:Despachos Internos
LOCATION:Reitoria
PRIORITY:3
TRANSP:0
END:VEVENT
END:VCALENDAR
