BEGIN:VCALENDAR
PRODID:brasil.gov.agenda
VERSION:1.0
BEGIN:VEVENT
DTSTART:20210325T140000Z
DTEND:20210325T150000Z
DCREATED:20210325T113753Z
UID:Compromisso-31a3e6da72c14f7b981b963cab93d344
SEQUENCE:0
LAST-MODIFIED:20210325T113753Z
SUMMARY:Despachos Internos
LOCATION:Reitoria
PRIORITY:3
TRANSP:0
END:VEVENT
END:VCALENDAR
