BEGIN:VCALENDAR
PRODID:brasil.gov.agenda
VERSION:1.0
BEGIN:VEVENT
DTSTART:20210324T080000Z
DTEND:20210324T083000Z
DCREATED:20210324T112352Z
UID:Compromisso-a4b72099a43d4de6a2b8f9d990f335e2
SEQUENCE:0
LAST-MODIFIED:20210324T112352Z
SUMMARY:Reunião com a Diretoria de Tecnologia da Informação (DTI)
DESCRIPTION:Continuação da reunião anterior
LOCATION:Reitoria
PRIORITY:3
TRANSP:0
END:VEVENT
END:VCALENDAR
