BEGIN:VCALENDAR
PRODID:brasil.gov.agenda
VERSION:1.0
BEGIN:VEVENT
DTSTART:20210322T080000Z
DTEND:20210322T100000Z
DCREATED:20210322T112857Z
UID:Compromisso-064c1805a1b145588c009fc2ac0b9493
SEQUENCE:0
LAST-MODIFIED:20210322T112937Z
SUMMARY:Reunião do Comitê de Governança\, Integridade\, Riscos e Controles (CGIRC)
DESCRIPTION:1. Aprovação da Minuta da Política de Gestão de Riscos
  da UFVJM\, tal qual elaborada pelo Comitê Assessor de Gestão\, Inte
 gridade\, Riscos e Controle (CAGIRC)\;\n2. Calendário de reuniões do
  CGIRC\;\n3. Apresentação dos recursos necessários para a reestrutu
 ração setorial da PROGRAD.
LOCATION:Reitoria
PRIORITY:3
TRANSP:0
END:VEVENT
END:VCALENDAR
