BEGIN:VCALENDAR
PRODID:brasil.gov.agenda
VERSION:1.0
BEGIN:VEVENT
DTSTART:20210322T100000Z
DTEND:20210322T120000Z
DCREATED:20210322T113009Z
UID:Compromisso-bcae9cfbcf41465aa580138c32c5f66e
SEQUENCE:0
LAST-MODIFIED:20210322T113009Z
SUMMARY:Despachos Internos
LOCATION:Reitoria
PRIORITY:3
TRANSP:0
END:VEVENT
END:VCALENDAR
