BEGIN:VCALENDAR
PRODID:brasil.gov.agenda
VERSION:1.0
BEGIN:VEVENT
DTSTART:20210322T140000Z
DTEND:20210322T180000Z
DCREATED:20210322T113028Z
UID:Compromisso-227ab77c40234dc9972704d464e05ce1
SEQUENCE:0
LAST-MODIFIED:20210322T113028Z
SUMMARY:Despachos Internos
LOCATION:Reitoria
PRIORITY:3
TRANSP:0
END:VEVENT
END:VCALENDAR
