BEGIN:VCALENDAR
PRODID:brasil.gov.agenda
VERSION:1.0
BEGIN:VEVENT
DTSTART:20210319T100000Z
DTEND:20210319T110000Z
DCREATED:20210312T132811Z
UID:Compromisso-eeb217f066a34b2c84a25311562c82b7
SEQUENCE:0
LAST-MODIFIED:20210319T112706Z
SUMMARY:Reunião com o Hospital Sírio-Libanês
DESCRIPTION:Parcerias
LOCATION:Compromisso online
PRIORITY:3
TRANSP:0
END:VEVENT
END:VCALENDAR
