BEGIN:VCALENDAR
PRODID:brasil.gov.agenda
VERSION:1.0
BEGIN:VEVENT
DTSTART:20210319T080000Z
DTEND:20210319T090000Z
DCREATED:20210319T112247Z
UID:Compromisso-5a150f20a9124baa8b70b1d954b5bb10
SEQUENCE:0
LAST-MODIFIED:20210319T112330Z
SUMMARY:Reunião com a Pró-reitoria de Graduação (PROGRAD)
DESCRIPTION:Reestruturação da pró-reitoria
LOCATION:Compromisso online
PRIORITY:3
TRANSP:0
END:VEVENT
END:VCALENDAR
