BEGIN:VCALENDAR
PRODID:brasil.gov.agenda
VERSION:1.0
BEGIN:VEVENT
DTSTART:20210318T093000Z
DTEND:20210318T103000Z
DCREATED:20210318T114019Z
UID:Compromisso-b51c1d0238954f71818c5b72aafc7ca4
SEQUENCE:0
LAST-MODIFIED:20210318T114841Z
SUMMARY:Reunião com a Ouvidoria
DESCRIPTION:Demanda institucional
LOCATION:Reitoria
PRIORITY:3
TRANSP:0
END:VEVENT
END:VCALENDAR
