BEGIN:VCALENDAR
PRODID:brasil.gov.agenda
VERSION:1.0
BEGIN:VEVENT
DTSTART:20210317T090000Z
DTEND:20210317T140000Z
DCREATED:20210317T142602Z
UID:Compromisso-8aa25546d4e948438378e461d513ad93
SEQUENCE:0
LAST-MODIFIED:20210317T142602Z
SUMMARY:Despachos Internos
LOCATION:Reitoria
PRIORITY:3
TRANSP:0
END:VEVENT
END:VCALENDAR
