BEGIN:VCALENDAR
PRODID:brasil.gov.agenda
VERSION:1.0
BEGIN:VEVENT
DTSTART:20210317T170000Z
DTEND:20210317T180000Z
DCREATED:20210317T142920Z
UID:Compromisso-300247a3249045bca294b39dc86decaa
SEQUENCE:0
LAST-MODIFIED:20210317T142920Z
SUMMARY:Despachos Internos
LOCATION:Reitoria
PRIORITY:3
TRANSP:0
END:VEVENT
END:VCALENDAR
