BEGIN:VCALENDAR
PRODID:brasil.gov.agenda
VERSION:1.0
BEGIN:VEVENT
DTSTART:20210317T080000Z
DTEND:20210317T083000Z
DCREATED:20210317T142527Z
UID:Compromisso-67a0e4cc12664796a3ea5a9ec429ad6f
SEQUENCE:0
LAST-MODIFIED:20210317T142527Z
SUMMARY:Abertura do XI EIICA - Encontro Internacional de Informação\, Conhecimento & Ação
LOCATION:Compromisso online
PRIORITY:3
TRANSP:0
END:VEVENT
END:VCALENDAR
