BEGIN:VCALENDAR
PRODID:brasil.gov.agenda
VERSION:1.0
BEGIN:VEVENT
DTSTART:20210317T140000Z
DTEND:20210317T160000Z
DCREATED:20210317T142850Z
UID:Compromisso-3649bd8d98444dcfafc635f24d6bd2f7
SEQUENCE:0
LAST-MODIFIED:20210317T142850Z
SUMMARY:14ª Reunião do Conselho de Integração Comunitária (CONSIC)
LOCATION:Compromisso online
PRIORITY:3
TRANSP:0
END:VEVENT
END:VCALENDAR
