BEGIN:VCALENDAR
PRODID:brasil.gov.agenda
VERSION:1.0
BEGIN:VEVENT
DTSTART:20210316T160000Z
DTEND:20210316T190000Z
DCREATED:20210317T143835Z
UID:Compromisso-55ed810a8322410d86856b9a24d7ddcb
SEQUENCE:0
LAST-MODIFIED:20210317T143835Z
SUMMARY:Reunião com a Diretoria de Infraestrutura
DESCRIPTION:Alinhamento interno
LOCATION:Reitoria
PRIORITY:3
TRANSP:0
END:VEVENT
END:VCALENDAR
