BEGIN:VCALENDAR
PRODID:brasil.gov.agenda
VERSION:1.0
BEGIN:VEVENT
DTSTART:20210316T143000Z
DTEND:20210316T160000Z
DCREATED:20210317T143420Z
UID:Compromisso-90968e43c79149048871fc1e77012b44
SEQUENCE:0
LAST-MODIFIED:20210317T143420Z
SUMMARY:Reunião com a chefia de departamento do curso de Odontologia
DESCRIPTION:Espaços no campus I
LOCATION:Reitoria
PRIORITY:3
TRANSP:0
END:VEVENT
END:VCALENDAR
