BEGIN:VCALENDAR
PRODID:brasil.gov.agenda
VERSION:1.0
BEGIN:VEVENT
DTSTART:20210316T080000Z
DTEND:20210316T120000Z
DCREATED:20210317T143202Z
UID:Compromisso-aa3a247ac53f4768a52aed91c7d8fa0f
SEQUENCE:0
LAST-MODIFIED:20210317T143202Z
SUMMARY:Despachos Internos
LOCATION:Reitoria
PRIORITY:3
TRANSP:0
END:VEVENT
END:VCALENDAR
