BEGIN:VCALENDAR
PRODID:brasil.gov.agenda
VERSION:1.0
BEGIN:VEVENT
DTSTART:20210312T110000Z
DTEND:20210312T120000Z
DCREATED:20210312T130252Z
UID:Compromisso-a7d21d21085940eb9e1206b1b970ac3a
SEQUENCE:0
LAST-MODIFIED:20210312T130716Z
SUMMARY:Reunião com o grupo de trabalho escritório de processos
LOCATION:Compromisso online
PRIORITY:3
TRANSP:0
END:VEVENT
END:VCALENDAR
