BEGIN:VCALENDAR
PRODID:brasil.gov.agenda
VERSION:1.0
BEGIN:VEVENT
DTSTART:20210312T080000Z
DTEND:20210312T110000Z
DCREATED:20210312T125717Z
UID:Compromisso-3c52d098a78e4556a7801856df6c972e
SEQUENCE:0
LAST-MODIFIED:20210312T125717Z
SUMMARY:Despachos Internos
LOCATION:Reitoria
PRIORITY:3
TRANSP:0
END:VEVENT
END:VCALENDAR
