BEGIN:VCALENDAR
PRODID:brasil.gov.agenda
VERSION:1.0
BEGIN:VEVENT
DTSTART:20210312T140000Z
DTEND:20210312T180000Z
DCREATED:20210312T125909Z
UID:Compromisso-835c089347424e4695cd6c05c8c0d34c
SEQUENCE:0
LAST-MODIFIED:20210312T125909Z
SUMMARY:Despachos Internos
LOCATION:Reitoria
PRIORITY:3
TRANSP:0
END:VEVENT
END:VCALENDAR
