BEGIN:VCALENDAR
PRODID:brasil.gov.agenda
VERSION:1.0
BEGIN:VEVENT
DTSTART:20210311T080000Z
DTEND:20210311T090000Z
DCREATED:20210311T115012Z
UID:Compromisso-d1d220fafc164072b19cd4e8fe886bab
SEQUENCE:0
LAST-MODIFIED:20210311T115012Z
SUMMARY:Reunião com a Diretoria de Relações Internacionais (DRI)
DESCRIPTION:Políticas de Institucionalização
LOCATION:Reitoria
PRIORITY:3
TRANSP:0
END:VEVENT
END:VCALENDAR
