BEGIN:VCALENDAR
PRODID:brasil.gov.agenda
VERSION:1.0
BEGIN:VEVENT
DTSTART:20210311T160000Z
DTEND:20210311T180000Z
DCREATED:20210311T115412Z
UID:Compromisso-c4774a4380e54b7f9d3a5c6eddf8ac26
SEQUENCE:0
LAST-MODIFIED:20210311T115412Z
SUMMARY:Despachos Internos
LOCATION:Reitoria
PRIORITY:3
TRANSP:0
END:VEVENT
END:VCALENDAR
