BEGIN:VCALENDAR
PRODID:brasil.gov.agenda
VERSION:1.0
BEGIN:VEVENT
DTSTART:20210310T110000Z
DTEND:20210310T120000Z
DCREATED:20210311T114834Z
UID:Compromisso-aac414ee93d64cbc9f8a12bcceb56d16
SEQUENCE:0
LAST-MODIFIED:20210311T114834Z
SUMMARY:Reunião na Prefeitura Municipal de Diamantina/MG com empresários de exploração de minérios
LOCATION:Reitoria
PRIORITY:3
TRANSP:0
END:VEVENT
END:VCALENDAR
