BEGIN:VCALENDAR
PRODID:brasil.gov.agenda
VERSION:1.0
BEGIN:VEVENT
DTSTART:20210310T090000Z
DTEND:20210310T100000Z
DCREATED:20210310T131023Z
UID:Compromisso-abb66a1aa6aa487884f4b331b3c5deb9
SEQUENCE:0
LAST-MODIFIED:20210310T131023Z
SUMMARY:Reunião com a Comissão Responsável pela Organização dos Setores de Produção da UFVJM
DESCRIPTION:Alinhamento das atividades
LOCATION:Reitoria
PRIORITY:3
TRANSP:0
END:VEVENT
END:VCALENDAR
