BEGIN:VCALENDAR
PRODID:brasil.gov.agenda
VERSION:1.0
BEGIN:VEVENT
DTSTART:20210309T080000Z
DTEND:20210309T090000Z
DCREATED:20210310T114528Z
UID:Compromisso-0e51b1b0dd4f43c999f6c901db29c8c3
SEQUENCE:0
LAST-MODIFIED:20210310T114528Z
SUMMARY:Reunião com a Pró-Reitoria de Gestão de Pessoas (PROGEP)
DESCRIPTION:Autoavaliação IGG - TCU
LOCATION:Reitoria
PRIORITY:3
TRANSP:0
END:VEVENT
END:VCALENDAR
