BEGIN:VCALENDAR
PRODID:brasil.gov.agenda
VERSION:1.0
BEGIN:VEVENT
DTSTART:20210309T100000Z
DTEND:20210309T110000Z
DCREATED:20210310T115224Z
UID:Compromisso-39f03419707341a5a607d5847f33fac4
SEQUENCE:0
LAST-MODIFIED:20210310T115224Z
SUMMARY:Reunião com a Faculdade de Ciências Agrárias (FCA)
DESCRIPTION:Parceria Codevasf
LOCATION:Reitoria
PRIORITY:3
TRANSP:0
END:VEVENT
END:VCALENDAR
